BEGIN:VCALENDAR
VERSION:2.0
PRODID:-//Tukios.com/
BEGIN:VEVENT
UID:70eed310-e7a4-4390-b6de-658edc3503c3@www.morrisonfuneraldirectors.com
DTSTAMP:20260423T233334Z
DTSTART:20260425T160000Z
DTEND:20260425T170000Z
SUMMARY:Funeral Service
DESCRIPTION:
URL:https://www.morrisonfuneraldirectors.com/obituaries/jerry-morton
LOCATION: 1315 Zauk Ave  Dumas TX 79029
GEO:35.8518485;-101.9664173
END:VEVENT
END:VCALENDAR