BEGIN:VCALENDAR
VERSION:2.0
PRODID:-//Tukios.com/
BEGIN:VEVENT
UID:d51c3444-1a61-43fe-80aa-9a3e1b636efe@www.morrisonfuneraldirectors.com
DTSTAMP:20260423T233809Z
DTSTART:20260424T220000Z
DTEND:20260425T000000Z
SUMMARY:Visitation
DESCRIPTION:
URL:https://www.morrisonfuneraldirectors.com/obituaries/jerry-morton
LOCATION: 1015 S Dumas Ave  Dumas TX 79029
GEO:35.8545495;-101.972836
END:VEVENT
END:VCALENDAR