BEGIN:VCALENDAR
VERSION:2.0
PRODID:-//Tukios.com/
BEGIN:VEVENT
UID:0cff4393-2062-4fdf-879a-664e4d1e8798@www.morrisonfuneraldirectors.com
DTSTAMP:20260422T005908Z
DTSTART:20260424T190000Z
DTEND:20260424T200000Z
SUMMARY:Memorial Service
DESCRIPTION:
URL:https://www.morrisonfuneraldirectors.com/obituaries/ricky-lawson
LOCATION: 1015 S Dumas Ave  Dumas  79029
GEO:35.8545764;-101.97288197
END:VEVENT
END:VCALENDAR